BEGIN:VCALENDAR
VERSION:2.0
PRODID:-//Damesdispuut Pepe - ECPv4.2.7//NONSGML v1.0//EN
CALSCALE:GREGORIAN
METHOD:PUBLISH
X-WR-CALNAME:Damesdispuut Pepe
X-ORIGINAL-URL:https://damesdispuutpepe.nl
X-WR-CALDESC:Events for Damesdispuut Pepe
BEGIN:VEVENT
DTSTART;TZID=UTC+2:20250703T170000
DTEND;TZID=UTC+2:20250703T230000
DTSTAMP:20260422T091340
CREATED:20250617T104903
LAST-MODIFIED:20250617T105155
UID:2350-1751562000-1751583600@damesdispuutpepe.nl
SUMMARY:Eindfeest Phileas & borrel Sophisticats
DESCRIPTION:
URL:https://damesdispuutpepe.nl/event/eindfeest-phileas-borrel-sophisticats/
END:VEVENT
END:VCALENDAR