BEGIN:VCALENDAR
VERSION:2.0
PRODID:-//Damesdispuut Pepe - ECPv4.2.7//NONSGML v1.0//EN
CALSCALE:GREGORIAN
METHOD:PUBLISH
X-WR-CALNAME:Damesdispuut Pepe
X-ORIGINAL-URL:https://damesdispuutpepe.nl
X-WR-CALDESC:Events for Damesdispuut Pepe
BEGIN:VEVENT
DTSTART;VALUE=DATE:20230129
DTEND;VALUE=DATE:20230130
DTSTAMP:20260425T164026
CREATED:20221227
LAST-MODIFIED:20221227
UID:1979-1674968400-1675054799@damesdispuutpepe.nl
SUMMARY:Klunen
DESCRIPTION:
URL:https://damesdispuutpepe.nl/event/klunen/
END:VEVENT
END:VCALENDAR