BEGIN:VCALENDAR
VERSION:2.0
PRODID:-//Damesdispuut Pepe - ECPv4.2.7//NONSGML v1.0//EN
CALSCALE:GREGORIAN
METHOD:PUBLISH
X-WR-CALNAME:Damesdispuut Pepe
X-ORIGINAL-URL:https://damesdispuutpepe.nl
X-WR-CALDESC:Events for Damesdispuut Pepe
BEGIN:VEVENT
DTSTART;VALUE=DATE:20221020
DTEND;VALUE=DATE:20221021
DTSTAMP:20260425T210405
CREATED:20221006
LAST-MODIFIED:20221006
UID:1937-1666242000-1666328399@damesdispuutpepe.nl
SUMMARY:2e officiële borrel
DESCRIPTION:
URL:https://damesdispuutpepe.nl/event/2e-officiele-borrel-2/
END:VEVENT
END:VCALENDAR