BEGIN:VCALENDAR
VERSION:2.0
PRODID:-//Damesdispuut Pepe - ECPv4.2.7//NONSGML v1.0//EN
CALSCALE:GREGORIAN
METHOD:PUBLISH
X-WR-CALNAME:Damesdispuut Pepe
X-ORIGINAL-URL:https://damesdispuutpepe.nl
X-WR-CALDESC:Events for Damesdispuut Pepe
BEGIN:VEVENT
DTSTART;VALUE=DATE:20230413
DTEND;VALUE=DATE:20230414
DTSTAMP:20260422T101624
CREATED:20230330
LAST-MODIFIED:20230330
UID:2071-1681362000-1681448399@damesdispuutpepe.nl
SUMMARY:Phileas kennisronde
DESCRIPTION:
URL:https://damesdispuutpepe.nl/event/phileas-kennisronde/
END:VEVENT
END:VCALENDAR