BEGIN:VCALENDAR
VERSION:2.0
PRODID:-//Damesdispuut Pepe - ECPv4.2.7//NONSGML v1.0//EN
CALSCALE:GREGORIAN
METHOD:PUBLISH
X-WR-CALNAME:Damesdispuut Pepe
X-ORIGINAL-URL:https://damesdispuutpepe.nl
X-WR-CALDESC:Events for Damesdispuut Pepe
BEGIN:VEVENT
DTSTART;VALUE=DATE:20230419
DTEND;VALUE=DATE:20230420
DTSTAMP:20260422T091340
CREATED:20230330
LAST-MODIFIED:20230330
UID:2073-1681880400-1681966799@damesdispuutpepe.nl
SUMMARY:PEPE Paa(r)sfeest
DESCRIPTION:
URL:https://damesdispuutpepe.nl/event/pepe-paarsfeest-2/
END:VEVENT
END:VCALENDAR