BEGIN:VCALENDAR
VERSION:2.0
PRODID:-//Damesdispuut Pepe - ECPv4.2.7//NONSGML v1.0//EN
CALSCALE:GREGORIAN
METHOD:PUBLISH
X-WR-CALNAME:Damesdispuut Pepe
X-ORIGINAL-URL:https://damesdispuutpepe.nl
X-WR-CALDESC:Events for Damesdispuut Pepe
BEGIN:VEVENT
DTSTART;TZID=UTC+2:20250619T150000
DTEND;TZID=UTC+2:20250619T230000
DTSTAMP:20260422T090937
CREATED:20250617T104505
LAST-MODIFIED:20250617T104505
UID:2336-1750345200-1750374000@damesdispuutpepe.nl
SUMMARY:NSO
DESCRIPTION:
URL:https://damesdispuutpepe.nl/event/nso/
END:VEVENT
END:VCALENDAR