BEGIN:VCALENDAR
VERSION:2.0
PRODID:-//Damesdispuut Pepe - ECPv4.2.7//NONSGML v1.0//EN
CALSCALE:GREGORIAN
METHOD:PUBLISH
X-WR-CALNAME:Damesdispuut Pepe
X-ORIGINAL-URL:https://damesdispuutpepe.nl
X-WR-CALDESC:Events for Damesdispuut Pepe
BEGIN:VEVENT
DTSTART;TZID=UTC+2:20220629T200000
DTEND;TZID=UTC+2:20220629T230000
DTSTAMP:20260424T225041
CREATED:20220524T113405
LAST-MODIFIED:20220524T113405
UID:1890-1656532800-1656543600@damesdispuutpepe.nl
SUMMARY:Nassau feest PEPE
DESCRIPTION:
URL:https://damesdispuutpepe.nl/event/nassau-feest-pepe/
END:VEVENT
END:VCALENDAR