BEGIN:VCALENDAR
VERSION:2.0
PRODID:-//Damesdispuut Pepe - ECPv4.2.7//NONSGML v1.0//EN
CALSCALE:GREGORIAN
METHOD:PUBLISH
X-WR-CALNAME:Damesdispuut Pepe
X-ORIGINAL-URL:https://damesdispuutpepe.nl
X-WR-CALDESC:Events for Damesdispuut Pepe
BEGIN:VEVENT
DTSTART;TZID=UTC+2:20221014T080000
DTEND;TZID=UTC+2:20221016T170000
DTSTAMP:20260424T144809
CREATED:20221006T081953
LAST-MODIFIED:20221006T081953
UID:1943-1665734400-1665939600@damesdispuutpepe.nl
SUMMARY:KMT ||
DESCRIPTION:
URL:https://damesdispuutpepe.nl/event/kmt-2/
END:VEVENT
END:VCALENDAR