BEGIN:VCALENDAR
VERSION:2.0
PRODID:-//Damesdispuut Pepe - ECPv4.2.7//NONSGML v1.0//EN
CALSCALE:GREGORIAN
METHOD:PUBLISH
X-WR-CALNAME:Damesdispuut Pepe
X-ORIGINAL-URL:https://damesdispuutpepe.nl
X-WR-CALDESC:Events for Damesdispuut Pepe
BEGIN:VEVENT
DTSTART;VALUE=DATE:20221123
DTEND;VALUE=DATE:20221124
DTSTAMP:20260424T131905
CREATED:20221006
LAST-MODIFIED:20221006
UID:1945-1669179600-1669265999@damesdispuutpepe.nl
SUMMARY:Bestuurswissel SV Phileas Fogg
DESCRIPTION:
URL:https://damesdispuutpepe.nl/event/bestuurswissel-sv-phileas-fogg-3/
END:VEVENT
END:VCALENDAR