BEGIN:VCALENDAR
VERSION:2.0
PRODID:-//Damesdispuut Pepe - ECPv4.2.7//NONSGML v1.0//EN
CALSCALE:GREGORIAN
METHOD:PUBLISH
X-WR-CALNAME:Damesdispuut Pepe
X-ORIGINAL-URL:https://damesdispuutpepe.nl
X-WR-CALDESC:Events for Damesdispuut Pepe
BEGIN:VEVENT
DTSTART;TZID=UTC+2:20250622T130000
DTEND;TZID=UTC+2:20250622T220000
DTSTAMP:20260422T101052
CREATED:20250617T104538
LAST-MODIFIED:20250617T104538
UID:2338-1750597200-1750629600@damesdispuutpepe.nl
SUMMARY:Beste maatjes dag
DESCRIPTION:
URL:https://damesdispuutpepe.nl/event/beste-maatjes-dag/
END:VEVENT
END:VCALENDAR