BEGIN:VCALENDAR
VERSION:2.0
PRODID:-//Damesdispuut Pepe - ECPv4.2.7//NONSGML v1.0//EN
CALSCALE:GREGORIAN
METHOD:PUBLISH
X-WR-CALNAME:Damesdispuut Pepe
X-ORIGINAL-URL:https://damesdispuutpepe.nl
X-WR-CALDESC:Events for Damesdispuut Pepe
BEGIN:VEVENT
DTSTART;VALUE=DATE:20221111
DTEND;VALUE=DATE:20221112
DTSTAMP:20260424T144156
CREATED:20221006
LAST-MODIFIED:20221006
UID:1939-1668142800-1668229199@damesdispuutpepe.nl
SUMMARY:3e officiële borrel
DESCRIPTION:
URL:https://damesdispuutpepe.nl/event/3e-officiele-borrel-2/
END:VEVENT
END:VCALENDAR