BEGIN:VCALENDAR
VERSION:2.0
PRODID:-//Damesdispuut Pepe - ECPv4.2.7//NONSGML v1.0//EN
CALSCALE:GREGORIAN
METHOD:PUBLISH
X-WR-CALNAME:Damesdispuut Pepe
X-ORIGINAL-URL:https://damesdispuutpepe.nl
X-WR-CALDESC:Events for Damesdispuut Pepe
BEGIN:VEVENT
DTSTART;VALUE=DATE:20221006
DTEND;VALUE=DATE:20221007
DTSTAMP:20260424T160436
CREATED:20221006
LAST-MODIFIED:20221006
UID:1935-1665032400-1665118799@damesdispuutpepe.nl
SUMMARY:1e officiële borrel
DESCRIPTION:
URL:https://damesdispuutpepe.nl/event/1e-officiele-borrel-2/
END:VEVENT
END:VCALENDAR